BEGIN:VCALENDAR
VERSION:2.0
PRODID:-//MAGMA - ECPv6.15.14//NONSGML v1.0//EN
CALSCALE:GREGORIAN
METHOD:PUBLISH
X-ORIGINAL-URL:https://magma.center
X-WR-CALDESC:Events for MAGMA
REFRESH-INTERVAL;VALUE=DURATION:PT1H
X-Robots-Tag:noindex
X-PUBLISHED-TTL:PT1H
BEGIN:VTIMEZONE
TZID:America/New_York
BEGIN:DAYLIGHT
TZOFFSETFROM:-0500
TZOFFSETTO:-0400
TZNAME:EDT
DTSTART:20180311T070000
END:DAYLIGHT
BEGIN:STANDARD
TZOFFSETFROM:-0400
TZOFFSETTO:-0500
TZNAME:EST
DTSTART:20181104T060000
END:STANDARD
BEGIN:DAYLIGHT
TZOFFSETFROM:-0500
TZOFFSETTO:-0400
TZNAME:EDT
DTSTART:20190310T070000
END:DAYLIGHT
BEGIN:STANDARD
TZOFFSETFROM:-0400
TZOFFSETTO:-0500
TZNAME:EST
DTSTART:20191103T060000
END:STANDARD
BEGIN:DAYLIGHT
TZOFFSETFROM:-0500
TZOFFSETTO:-0400
TZNAME:EDT
DTSTART:20200308T070000
END:DAYLIGHT
BEGIN:STANDARD
TZOFFSETFROM:-0400
TZOFFSETTO:-0500
TZNAME:EST
DTSTART:20201101T060000
END:STANDARD
END:VTIMEZONE
BEGIN:VEVENT
DTSTART;TZID=America/New_York:20190614T173000
DTEND;TZID=America/New_York:20190614T190000
DTSTAMP:20260419T235808
CREATED:20190522T115937Z
LAST-MODIFIED:20190522T115937Z
UID:1593-1560533400-1560538800@magma.center
SUMMARY:Improv Jam
DESCRIPTION:The monthly improv jam is open to musicians\, movers\, poets\, actors\, performance artists: anyone who wants to co-create live art in real time. \nSchedule is as follows: \n5:30- 6pm warm-up\, composition skills\, conversation \n6-7pm open jam \n$5 suggested donation \n\n+ GOOGLE CALENDAR
URL:https://magma.center/event/improv-jam-8/
LOCATION:MAGMA\, 11 Pleasant St.\, Gloucester\, MA\, 01930\, United States
END:VEVENT
END:VCALENDAR