BEGIN:VCALENDAR
VERSION:2.0
PRODID:-//MAGMA - ECPv6.15.14//NONSGML v1.0//EN
CALSCALE:GREGORIAN
METHOD:PUBLISH
X-ORIGINAL-URL:https://magma.center
X-WR-CALDESC:Events for MAGMA
REFRESH-INTERVAL;VALUE=DURATION:PT1H
X-Robots-Tag:noindex
X-PUBLISHED-TTL:PT1H
BEGIN:VTIMEZONE
TZID:America/New_York
BEGIN:DAYLIGHT
TZOFFSETFROM:-0500
TZOFFSETTO:-0400
TZNAME:EDT
DTSTART:20180311T070000
END:DAYLIGHT
BEGIN:STANDARD
TZOFFSETFROM:-0400
TZOFFSETTO:-0500
TZNAME:EST
DTSTART:20181104T060000
END:STANDARD
BEGIN:DAYLIGHT
TZOFFSETFROM:-0500
TZOFFSETTO:-0400
TZNAME:EDT
DTSTART:20190310T070000
END:DAYLIGHT
BEGIN:STANDARD
TZOFFSETFROM:-0400
TZOFFSETTO:-0500
TZNAME:EST
DTSTART:20191103T060000
END:STANDARD
BEGIN:DAYLIGHT
TZOFFSETFROM:-0500
TZOFFSETTO:-0400
TZNAME:EDT
DTSTART:20200308T070000
END:DAYLIGHT
BEGIN:STANDARD
TZOFFSETFROM:-0400
TZOFFSETTO:-0500
TZNAME:EST
DTSTART:20201101T060000
END:STANDARD
END:VTIMEZONE
BEGIN:VEVENT
DTSTART;TZID=America/New_York:20190510T173000
DTEND;TZID=America/New_York:20190510T190000
DTSTAMP:20260420T191623
CREATED:20190430T014607Z
LAST-MODIFIED:20190430T014655Z
UID:1570-1557509400-1557514800@magma.center
SUMMARY:Improv Jam
DESCRIPTION:The monthly improv jam is for movers\, musicians\, poets\, actors\, anyone interest in creating live art in real time. \n5:30-6pm\,  warm-up/compositional skills/deep listening \n6-7pm open jam \n$5 suggested donation
URL:https://magma.center/event/improv-jam-7/
LOCATION:MAGMA\, 11 Pleasant St.\, Gloucester\, MA\, 01930\, United States
END:VEVENT
END:VCALENDAR