BEGIN:VCALENDAR
VERSION:2.0
PRODID:-//MAGMA - ECPv6.15.14//NONSGML v1.0//EN
CALSCALE:GREGORIAN
METHOD:PUBLISH
X-WR-CALNAME:MAGMA
X-ORIGINAL-URL:https://magma.center
X-WR-CALDESC:Events for MAGMA
REFRESH-INTERVAL;VALUE=DURATION:PT1H
X-Robots-Tag:noindex
X-PUBLISHED-TTL:PT1H
BEGIN:VTIMEZONE
TZID:America/New_York
BEGIN:DAYLIGHT
TZOFFSETFROM:-0500
TZOFFSETTO:-0400
TZNAME:EDT
DTSTART:20160313T070000
END:DAYLIGHT
BEGIN:STANDARD
TZOFFSETFROM:-0400
TZOFFSETTO:-0500
TZNAME:EST
DTSTART:20161106T060000
END:STANDARD
BEGIN:DAYLIGHT
TZOFFSETFROM:-0500
TZOFFSETTO:-0400
TZNAME:EDT
DTSTART:20170312T070000
END:DAYLIGHT
BEGIN:STANDARD
TZOFFSETFROM:-0400
TZOFFSETTO:-0500
TZNAME:EST
DTSTART:20171105T060000
END:STANDARD
BEGIN:DAYLIGHT
TZOFFSETFROM:-0500
TZOFFSETTO:-0400
TZNAME:EDT
DTSTART:20180311T070000
END:DAYLIGHT
BEGIN:STANDARD
TZOFFSETFROM:-0400
TZOFFSETTO:-0500
TZNAME:EST
DTSTART:20181104T060000
END:STANDARD
END:VTIMEZONE
BEGIN:VEVENT
DTSTART;TZID=America/New_York:20171007T190000
DTEND;TZID=America/New_York:20171007T220000
DTSTAMP:20260420T014413
CREATED:20170926T170215Z
LAST-MODIFIED:20180112T213149Z
UID:408-1507402800-1507413600@magma.center
SUMMARY:LATIN DANCE PARTY with GREG COLES
DESCRIPTION:The first of our Monthly Dance Social at MAGMA\, on Saturday October 7 put on your dancing shoes for a great night out. Doors open at 7pm. Greg Coles gives a hour long dance lesson in various Latin Dance styles from 7:30-8:30pm\, and then the dance floor is open til 10pm for you to have fun with your new moves! B.Y.O.B. $15 at the door\, $12 pre-sale online. \nBuy Tickets
URL:https://magma.center/event/latin-dance-night-with-greg-coles/
LOCATION:MAGMA\, 11 Pleasant St.\, Gloucester\, MA\, 01930\, United States
ORGANIZER;CN="MAGMA":MAILTO:director@magma.center
END:VEVENT
END:VCALENDAR