BEGIN:VCALENDAR
VERSION:2.0
PRODID:-//MAGMA - ECPv6.15.14//NONSGML v1.0//EN
CALSCALE:GREGORIAN
METHOD:PUBLISH
X-WR-CALNAME:MAGMA
X-ORIGINAL-URL:https://magma.center
X-WR-CALDESC:Events for MAGMA
REFRESH-INTERVAL;VALUE=DURATION:PT1H
X-Robots-Tag:noindex
X-PUBLISHED-TTL:PT1H
BEGIN:VTIMEZONE
TZID:America/New_York
BEGIN:DAYLIGHT
TZOFFSETFROM:-0500
TZOFFSETTO:-0400
TZNAME:EDT
DTSTART:20160313T070000
END:DAYLIGHT
BEGIN:STANDARD
TZOFFSETFROM:-0400
TZOFFSETTO:-0500
TZNAME:EST
DTSTART:20161106T060000
END:STANDARD
BEGIN:DAYLIGHT
TZOFFSETFROM:-0500
TZOFFSETTO:-0400
TZNAME:EDT
DTSTART:20170312T070000
END:DAYLIGHT
BEGIN:STANDARD
TZOFFSETFROM:-0400
TZOFFSETTO:-0500
TZNAME:EST
DTSTART:20171105T060000
END:STANDARD
BEGIN:DAYLIGHT
TZOFFSETFROM:-0500
TZOFFSETTO:-0400
TZNAME:EDT
DTSTART:20180311T070000
END:DAYLIGHT
BEGIN:STANDARD
TZOFFSETFROM:-0400
TZOFFSETTO:-0500
TZNAME:EST
DTSTART:20181104T060000
END:STANDARD
END:VTIMEZONE
BEGIN:VEVENT
DTSTART;TZID=America/New_York:20170923T190000
DTEND;TZID=America/New_York:20170923T213000
DTSTAMP:20260419T211821
CREATED:20170627T233244Z
LAST-MODIFIED:20180112T213208Z
UID:231-1506193200-1506202200@magma.center
SUMMARY:FunDead Poetry with Violin Monster
DESCRIPTION:FunDead Publications of Salem shows off its latest poetry anthology\, Entombed in Verse: An Epitaph for Salem\, as selected poets read their work from the book. \nOpening Act: Violin Monster  www.facebook.com/violinmonster  \nThis event is cosponsored by FunDead Publications\, Eastern Point Lit House and Movement Arts Gloucester MA (MAGMA). \n$10 Tickets available at EasternPointLitHouse.com \n 
URL:https://magma.center/event/fundead-poetry-with-violin-monster/
END:VEVENT
BEGIN:VEVENT
DTSTART;TZID=America/New_York:20170919T090000
DTEND;TZID=America/New_York:20170919T103000
DTSTAMP:20260419T211821
CREATED:20170627T232857Z
LAST-MODIFIED:20180112T213214Z
UID:224-1505811600-1505817000@magma.center
SUMMARY:Alexander Technique with Larry Young
DESCRIPTION:
URL:https://magma.center/event/alexander-technique-with-larry-young/
END:VEVENT
BEGIN:VEVENT
DTSTART;TZID=America/New_York:20170917T130000
DTEND;TZID=America/New_York:20170917T153000
DTSTAMP:20260419T211821
CREATED:20170817T034604Z
LAST-MODIFIED:20180112T213220Z
UID:314-1505653200-1505662200@magma.center
SUMMARY:First Capoeira Classes!
DESCRIPTION:Sign up for classes online
URL:https://magma.center/event/first-capoeira-classes/
END:VEVENT
BEGIN:VEVENT
DTSTART;TZID=America/New_York:20170912T090000
DTEND;TZID=America/New_York:20170912T103000
DTSTAMP:20260419T211821
CREATED:20170627T232823Z
LAST-MODIFIED:20180112T213225Z
UID:222-1505206800-1505212200@magma.center
SUMMARY:Alexander Technique with Larry Young
DESCRIPTION:
URL:https://magma.center/event/alexander-with-larry-young/
END:VEVENT
BEGIN:VEVENT
DTSTART;TZID=America/New_York:20170905T093000
DTEND;TZID=America/New_York:20170905T110000
DTSTAMP:20260419T211821
CREATED:20170620T204701Z
LAST-MODIFIED:20180112T213230Z
UID:183-1504603800-1504609200@magma.center
SUMMARY:Somatic Tuesdays: Alexander Technique with Larry Young
DESCRIPTION:The Alexander Technique offers a simple\, practical method for getting rid of unwanted tension in the body and for rediscovering ease in movement while improving coordination\, breathing and clarity of thought. Classes will leave you feeling lighter and more free. This workshop is for:\n– Performers such as actors\, musicians and dancers.\n– People with back\, neck\, and shoulder aches\, repetitive stress injuries\, carpal tunnel syndrome\, and chronic stress.\n– People who use their hands in their work to help other people: bodyworkers\, massage therapists\, movement educators\, performing art teachers\, physical therapists\, nurses\, etc. \nSEPTEMBER 5 – OCTOBER  10\,  $120/series
URL:https://magma.center/event/somatic-tuesdays-alexander-technique-with-larry-young/
LOCATION:MAGMA\, 11 Pleasant St.\, Gloucester\, MA\, 01930\, United States
END:VEVENT
BEGIN:VEVENT
DTSTART;TZID=America/New_York:20170826T170000
DTEND;TZID=America/New_York:20170826T193000
DTSTAMP:20260419T211821
CREATED:20170620T205259Z
LAST-MODIFIED:20180112T213236Z
UID:191-1503766800-1503775800@magma.center
SUMMARY:MAGMA Grand Opening
DESCRIPTION:Join us in welcoming this new cultural center for Gloucester and the North Shore! Open house event with refreshments\, pop-up performances\, and more. Win free classes and performance tickets with raffles to help fund our scholarship program and our state-of-the-art theatrical lighting. \nEntrance at 11 Pleasant Street\, or handicapped accessible through 186 Main Street\, elevator to the 5th floor.
URL:https://magma.center/event/magma-grand-opening/
LOCATION:MAGMA\, 11 Pleasant St.\, Gloucester\, MA\, 01930\, United States
END:VEVENT
END:VCALENDAR