BEGIN:VCALENDAR
VERSION:2.0
PRODID:-//MAGMA - ECPv6.15.14//NONSGML v1.0//EN
CALSCALE:GREGORIAN
METHOD:PUBLISH
X-ORIGINAL-URL:https://magma.center
X-WR-CALDESC:Events for MAGMA
REFRESH-INTERVAL;VALUE=DURATION:PT1H
X-Robots-Tag:noindex
X-PUBLISHED-TTL:PT1H
BEGIN:VTIMEZONE
TZID:America/New_York
BEGIN:DAYLIGHT
TZOFFSETFROM:-0500
TZOFFSETTO:-0400
TZNAME:EDT
DTSTART:20240310T070000
END:DAYLIGHT
BEGIN:STANDARD
TZOFFSETFROM:-0400
TZOFFSETTO:-0500
TZNAME:EST
DTSTART:20241103T060000
END:STANDARD
BEGIN:DAYLIGHT
TZOFFSETFROM:-0500
TZOFFSETTO:-0400
TZNAME:EDT
DTSTART:20250309T070000
END:DAYLIGHT
BEGIN:STANDARD
TZOFFSETFROM:-0400
TZOFFSETTO:-0500
TZNAME:EST
DTSTART:20251102T060000
END:STANDARD
BEGIN:DAYLIGHT
TZOFFSETFROM:-0500
TZOFFSETTO:-0400
TZNAME:EDT
DTSTART:20260308T070000
END:DAYLIGHT
BEGIN:STANDARD
TZOFFSETFROM:-0400
TZOFFSETTO:-0500
TZNAME:EST
DTSTART:20261101T060000
END:STANDARD
END:VTIMEZONE
BEGIN:VEVENT
DTSTART;TZID=America/New_York:20250803T180000
DTEND;TZID=America/New_York:20250803T200000
DTSTAMP:20260425T082145
CREATED:20250527T195506Z
LAST-MODIFIED:20250707T191928Z
UID:5036-1754244000-1754251200@magma.center
SUMMARY:Sunday Salon
DESCRIPTION:Sunday\, August 3\, 2025 from 6:00 – 8:00 pm\nMAGMA\, 11 Pleasant Street\, Gloucester\, MA\nSuggested Donation: $5 online or at the door\nRegistration link: https://momence.com/MAGMA/Sunday-Salon/117548729\n\nJoin us for the Sunday Salon with Miranda Aisling and Heather Atwood at MAGMA in Gloucester. During this monthly salon series\, attendees are invited to engage in thoughtful\, enriching conversations with fellow creatives across Cape Ann. The aim is to create an inspiring\, convivial space to foster creativity in our region. Whether you’re a long-time practicing artist or enthusiastically art-adjacent\, we welcome you to join in the conversation.\n\n\nSusan Erony and Nubar Alexanian will present their visual work.  Jay Jaroslav will be our presenting writer.\n\n*If it’s just too hot\, we will postpone until September.
URL:https://magma.center/event/sunday-salon-6/
LOCATION:MAGMA\, 11 Pleasant St.\, Gloucester\, MA\, 01930\, United States
CATEGORIES:visual art
ATTACH;FMTTYPE=image/png:https://magma.center/wp-content/uploads/2025/05/Sunday-Salon-1.png
END:VEVENT
END:VCALENDAR