BEGIN:VCALENDAR
VERSION:2.0
PRODID:-//MAGMA - ECPv6.15.14//NONSGML v1.0//EN
CALSCALE:GREGORIAN
METHOD:PUBLISH
X-WR-CALNAME:MAGMA
X-ORIGINAL-URL:https://magma.center
X-WR-CALDESC:Events for MAGMA
REFRESH-INTERVAL;VALUE=DURATION:PT1H
X-Robots-Tag:noindex
X-PUBLISHED-TTL:PT1H
BEGIN:VTIMEZONE
TZID:America/New_York
BEGIN:DAYLIGHT
TZOFFSETFROM:-0500
TZOFFSETTO:-0400
TZNAME:EDT
DTSTART:20240310T070000
END:DAYLIGHT
BEGIN:STANDARD
TZOFFSETFROM:-0400
TZOFFSETTO:-0500
TZNAME:EST
DTSTART:20241103T060000
END:STANDARD
BEGIN:DAYLIGHT
TZOFFSETFROM:-0500
TZOFFSETTO:-0400
TZNAME:EDT
DTSTART:20250309T070000
END:DAYLIGHT
BEGIN:STANDARD
TZOFFSETFROM:-0400
TZOFFSETTO:-0500
TZNAME:EST
DTSTART:20251102T060000
END:STANDARD
BEGIN:DAYLIGHT
TZOFFSETFROM:-0500
TZOFFSETTO:-0400
TZNAME:EDT
DTSTART:20260308T070000
END:DAYLIGHT
BEGIN:STANDARD
TZOFFSETFROM:-0400
TZOFFSETTO:-0500
TZNAME:EST
DTSTART:20261101T060000
END:STANDARD
END:VTIMEZONE
BEGIN:VEVENT
DTSTART;TZID=America/New_York:20251025T193000
DTEND;TZID=America/New_York:20251025T203000
DTSTAMP:20260421T070852
CREATED:20250902T154205Z
LAST-MODIFIED:20251016T194652Z
UID:5263-1761420600-1761424200@magma.center
SUMMARY:Undone
DESCRIPTION:UNDONE by Katrina Conte/the Click Boston\nUndone is a multidisciplinary performance project that makes way for new perspectives on growth and transformation. A tapestry of live poetry\, song\, and contemporary dance\, the project unravels tightly bound ideas\, traditions\, and convictions as it identifies the many incubators that shape our internal selves. \nFeaturing poetry written and performed by Noah Phoenix\, an original musical score created and performed by Pearl Scott\, and contemporary dance solos performed by The Click collaborators Angelina Benitez\, Katrina Conte\, Alexandria Nunweiler and Kristin Wagner. \nTIX $0-30 sliding scale PURCHASE HERE \nUndone is supported by the New England Foundation for the Arts’ New England Dance Fund\, with generous support from the Aliad Fund at the Boston Foundation\, and the Gloucester Cultural Council\, a local agency which is supported by the Mass Cultural Council\, a state agency.
URL:https://magma.center/event/undone-2/
LOCATION:MA
CATEGORIES:dance performance
ATTACH;FMTTYPE=image/jpeg:https://magma.center/wp-content/uploads/2025/09/032324-alive-thefoundry-oliviamoonphotography-346-1.jpg
END:VEVENT
END:VCALENDAR