BEGIN:VCALENDAR
VERSION:2.0
PRODID:-//MAGMA - ECPv6.15.14//NONSGML v1.0//EN
CALSCALE:GREGORIAN
METHOD:PUBLISH
X-ORIGINAL-URL:https://magma.center
X-WR-CALDESC:Events for MAGMA
REFRESH-INTERVAL;VALUE=DURATION:PT1H
X-Robots-Tag:noindex
X-PUBLISHED-TTL:PT1H
BEGIN:VTIMEZONE
TZID:America/New_York
BEGIN:DAYLIGHT
TZOFFSETFROM:-0500
TZOFFSETTO:-0400
TZNAME:EDT
DTSTART:20230312T070000
END:DAYLIGHT
BEGIN:STANDARD
TZOFFSETFROM:-0400
TZOFFSETTO:-0500
TZNAME:EST
DTSTART:20231105T060000
END:STANDARD
BEGIN:DAYLIGHT
TZOFFSETFROM:-0500
TZOFFSETTO:-0400
TZNAME:EDT
DTSTART:20240310T070000
END:DAYLIGHT
BEGIN:STANDARD
TZOFFSETFROM:-0400
TZOFFSETTO:-0500
TZNAME:EST
DTSTART:20241103T060000
END:STANDARD
BEGIN:DAYLIGHT
TZOFFSETFROM:-0500
TZOFFSETTO:-0400
TZNAME:EDT
DTSTART:20250309T070000
END:DAYLIGHT
BEGIN:STANDARD
TZOFFSETFROM:-0400
TZOFFSETTO:-0500
TZNAME:EST
DTSTART:20251102T060000
END:STANDARD
END:VTIMEZONE
BEGIN:VEVENT
DTSTART;TZID=America/New_York:20240921T193000
DTEND;TZID=America/New_York:20240921T210000
DTSTAMP:20260422T041702
CREATED:20240813T120842Z
LAST-MODIFIED:20240819T174947Z
UID:4573-1726947000-1726952400@magma.center
SUMMARY:Dance Performance: Sarah Rose\, Holly Stone & J.Michael Winward
DESCRIPTION:Canvas – Sarah Rose / Insider Ballroom – Holly Stone & J. Michael Winward\nTICKETS $20 suggested donation    BUY NOW\nsliding scale pricing available at the door day of show \n\n\n\nCanvas is a trio dance performance exploring ideas for spatial design and movement quality from Dotty Kyle’s (Sarah’s grandma’s) oil paintings of New England flora. The movement is paired with close up projections of the paintings which are displayed on the dancers’ bodies. Original sound score by Ross Daniel.\n\n\n\n\n\nInsider Ballroom\nHaving worked for each of the major American franchised schools\, Holly and Michael are now recovering salespeople\, seeking an alternative means of practice. Insider Ballroom: A Free Introductory Lesson combines professional ballroom dancing of the “American Smooth” category with personal storytelling from the performers: Queer perspectives from their time spent inside this decidedly hetero-industry.\n\n\n\n\n\nBios: \n\nSarah Rose is a multidisciplinary artist with a focus on movement and performance. Her current research focuses on the intersection of movement habit and the modern dance canon. She holds a BA in Classics from Princeton University (2014) and an MFA in Choreography and Performance from Florida State University (2019).\n—\nHelen Greider is a Queens based contemporary freelance dancer. Since moving to New York she has performed with Tabula Rasa Dance Theatre\, AFFEKT Dance Company\, Go.Co\, and choreographer/performer Sarah Rose. Helen graduated with a BFA in Dance and Economics from Florida State University in 2021 where she studied under Anjali Austin\, Jawole Willa Jo Zollar\, Gwen Welliver\, Donna Uchizono\, and Ilana Goldman. Helen is dedicated to exploring and pushing her boundaries of the physical challenge of dance and also in how artistic values impact life experiences and vice versa.\n—\nRoss Daniel is a Georgia born artist based in New York with an M.F.A. in Dance from Florida State University and a B.A. in theatre from Georgia College & State University. Ross is a 2019-2020 New Directions Choreography Lab Fellow at Alvin Ailey American Dance Theatre and a recent participant of the “MANCC Forward Dialogues” at the Maggie Allesee National Center for Choreography where he developed a dance collective with choreographer Sarah Rose entitled DanielRose Projects. Ross has performed in Then She Fell with Third Rail Company\, with 277 Dance Projects\, Alexis Zacarello (Center for Performance Research A.I.R\,) and Katelyn Halpern and Dancers\, on tour with Urban Bush Women (2019 Winter Tour\,) and on tour with Fox and Beggar Theatre\, a contemporary circus company based in Asheville\, North Carolina.\n—\n\nRaised in rural Vermont\, Holly Stone (they/them) creates dance and theater throughout Greater Boston\, and teaches at both Tufts and Boston Universities. As a performer\, Holly has recently danced for Kathy Hassinger\, Jo-Me Dance Theater\, Lowell House Opera\, Tim Glenn\, and with many\, many others from their time in the American Ballroom Dance Industry. Holly has a B.S. in Bioengineering and Neuroscience from Syracuse University and an MFA in Dance from Florida State University.\n—\nJ Michael Winward (he/they) is an interdisciplinary artist: dancer\, storyteller\, organizer: working at the intersection of movement\, memoir\, memory\, and care. Michael is the director of Steps in Time®: an organization that brings social partner dance programs to assisted living & mind care communities\, as well as the lead coordinator of Dancing Queerly: a platform for LGBTQ+ dance & performance artist support. Michael has a B.A. in Liberal Arts from Bennington College\, and an MFA in Interdisciplinary Art from Goddard College.\n\n—\nphoto credit: Elizabeth Mertz
URL:https://magma.center/event/sarah-rose-holly-stone-j-michael-winward/
LOCATION:MA
CATEGORIES:dance performance,performance art
ATTACH;FMTTYPE=image/jpeg:https://magma.center/wp-content/uploads/2024/08/20230924_WAXworks_September_SarahRose_ElyseMertz-4-scaled.jpeg
END:VEVENT
END:VCALENDAR