BEGIN:VCALENDAR
VERSION:2.0
PRODID:-//MAGMA - ECPv6.15.14//NONSGML v1.0//EN
CALSCALE:GREGORIAN
METHOD:PUBLISH
X-ORIGINAL-URL:https://magma.center
X-WR-CALDESC:Events for MAGMA
REFRESH-INTERVAL;VALUE=DURATION:PT1H
X-Robots-Tag:noindex
X-PUBLISHED-TTL:PT1H
BEGIN:VTIMEZONE
TZID:America/New_York
BEGIN:DAYLIGHT
TZOFFSETFROM:-0500
TZOFFSETTO:-0400
TZNAME:EDT
DTSTART:20230312T070000
END:DAYLIGHT
BEGIN:STANDARD
TZOFFSETFROM:-0400
TZOFFSETTO:-0500
TZNAME:EST
DTSTART:20231105T060000
END:STANDARD
BEGIN:DAYLIGHT
TZOFFSETFROM:-0500
TZOFFSETTO:-0400
TZNAME:EDT
DTSTART:20240310T070000
END:DAYLIGHT
BEGIN:STANDARD
TZOFFSETFROM:-0400
TZOFFSETTO:-0500
TZNAME:EST
DTSTART:20241103T060000
END:STANDARD
BEGIN:DAYLIGHT
TZOFFSETFROM:-0500
TZOFFSETTO:-0400
TZNAME:EDT
DTSTART:20250309T070000
END:DAYLIGHT
BEGIN:STANDARD
TZOFFSETFROM:-0400
TZOFFSETTO:-0500
TZNAME:EST
DTSTART:20251102T060000
END:STANDARD
END:VTIMEZONE
BEGIN:VEVENT
DTSTART;TZID=America/New_York:20240912T190000
DTEND;TZID=America/New_York:20240912T203000
DTSTAMP:20260422T043013
CREATED:20240813T144838Z
LAST-MODIFIED:20240823T214140Z
UID:4584-1726167600-1726173000@magma.center
SUMMARY:MAGMA Showcase Fundraiser
DESCRIPTION:MAGMA Showcase Fundraiser – at THE CUT \nCome celebrate MAGMA on September 12 with a special fundraiser performance\, featuring work performed by students in the adult dance program.\n\n\nChoreography by Sarah Slifer Swift\, Carey McKinley\, Dawn Pratson\, Sophia Dunzelman\, Laura Dow\, Jillian Chavez-Oliveira\, and Myles Kercher.\n\nProceeds go to supporting performing artists presenting work at MAGMA\, and need-based scholarships for youth dance classes.\n\n\n$20 Tickets via The Cut – BUY NOW \nWant to make a bigger donation to MAGMA?\nMAGMA is fiscally sponsored by Boston Dance Alliance\, Inc.\, a 501(c)(3) non­profit tax-exempt organization. Contributions in support of MAGMA’s work are greatly appreciated and may be made to Boston Dance Alliance\, Inc.\, earmarked for “MAGMA.” All contributions are fully tax-deductible to the extent allowed by law. DONATE TO MAGMA via BDA
URL:https://magma.center/event/magma-showcase-2/
LOCATION:The Cut\, 177 Main Street\, Gloucester\, MA\, 01930\, United States
CATEGORIES:dance performance
ATTACH;FMTTYPE=image/png:https://magma.center/wp-content/uploads/2024/08/magmashowcaseCROP.png
ORGANIZER;CN="MAGMA":MAILTO:director@magma.center
END:VEVENT
END:VCALENDAR